BEGIN:VCALENDAR
VERSION:2.0
PRODID:-//gidi-shifts//beit lessin//HE
CALSCALE:GREGORIAN
METHOD:PUBLISH
X-WR-CALNAME:גידי – Beit Lessin shifts
X-WR-TIMEZONE:Asia/Jerusalem
X-WR-CALDESC:שיבוצים מעודכנים לגידי – מתעדכן אוטומטית
BEGIN:VTIMEZONE
TZID:Asia/Jerusalem
BEGIN:STANDARD
DTSTART:19700101T000000
TZOFFSETFROM:+0300
TZOFFSETTO:+0200
RRULE:FREQ=YEARLY;BYMONTH=10;BYDAY=-1SU
TZNAME:IST
END:STANDARD
BEGIN:DAYLIGHT
DTSTART:19700101T000000
TZOFFSETFROM:+0200
TZOFFSETTO:+0300
RRULE:FREQ=YEARLY;BYMONTH=3;BYDAY=-1FR
TZNAME:IDT
END:DAYLIGHT
END:VTIMEZONE
BEGIN:VEVENT
UID:bb4f4ae8d9e4a989@gidi-shifts
DTSTAMP:20260421T201835Z
DTSTART;VALUE=DATE:20260403
DTEND;VALUE=DATE:20260404
SUMMARY:אפס · הקמה
DESCRIPTION:הערה: מח מח\nסימון בגיליון: משובץ (ע
 רך גולמי: 'ב')\nמקור: שיבוץ אפריל 2026.xls שורה 1
 2
LOCATION:דיזנגוף 1
CATEGORIES:בית ליסין,הקמה
STATUS:CONFIRMED
TRANSP:OPAQUE
END:VEVENT
BEGIN:VEVENT
UID:a4f89d6572f659de@gidi-shifts
DTSTAMP:20260421T201835Z
DTSTART;VALUE=DATE:20260403
DTEND;VALUE=DATE:20260404
SUMMARY:הוצאה מלכת היופי · פריקה/העמסה
DESCRIPTION:הערה: מח מח\nסימון בגיליון: משובץ (ע
 רך גולמי: 'ב')\nמקור: שיבוץ אפריל 2026.xls שורה 1
 3
CATEGORIES:בית ליסין,פריקה/העמסה
STATUS:CONFIRMED
TRANSP:OPAQUE
END:VEVENT
BEGIN:VEVENT
UID:197188928192c788@gidi-shifts
DTSTAMP:20260421T201835Z
DTSTART;TZID=Asia/Jerusalem:20260406T200000
DTEND;TZID=Asia/Jerusalem:20260406T230000
SUMMARY:אמדאוס · הצגה
DESCRIPTION:סימון בגיליון: משובץ (ערך גולמי: 'ב')
 \nשעה גולמית: 0.8333333333333334\nמקור: שיבוץ אפריל 
 2026.xls שורה 33
LOCATION:דיזנגוף 2
CATEGORIES:בית ליסין,הצגה
STATUS:CONFIRMED
TRANSP:OPAQUE
END:VEVENT
BEGIN:VEVENT
UID:61d7c806bcd60794@gidi-shifts
DTSTAMP:20260421T201835Z
DTSTART;TZID=Asia/Jerusalem:20260412T203000
DTEND;TZID=Asia/Jerusalem:20260412T233000
SUMMARY:אור לגויים · הצגה
DESCRIPTION:סימון בגיליון: משובץ (ערך גולמי: '^')\
 nשעה גולמית: 0.8541666666666666\nמקור: שיבוץ אפריל 2
 026.xls שורה 62
LOCATION:דיזנגוף 1
CATEGORIES:בית ליסין,הצגה
STATUS:CONFIRMED
TRANSP:OPAQUE
END:VEVENT
BEGIN:VEVENT
UID:17528e0ed4501894@gidi-shifts
DTSTAMP:20260421T201835Z
DTSTART;VALUE=DATE:20260413
DTEND;VALUE=DATE:20260414
SUMMARY:סיפור הפרברים · הקמה
DESCRIPTION:הערה: מח  מח\nסימון בגיליון: משובץ (ע
 רך גולמי: '^')\nמקור: שיבוץ אפריל 2026.xls שורה 69
LOCATION:דיזנגוף 1
CATEGORIES:בית ליסין,הקמה
STATUS:CONFIRMED
TRANSP:OPAQUE
END:VEVENT
BEGIN:VEVENT
UID:41ede910eef5ff76@gidi-shifts
DTSTAMP:20260421T201835Z
DTSTART;VALUE=DATE:20260413
DTEND;VALUE=DATE:20260414
SUMMARY:סיפור הפרברים · הקמה
DESCRIPTION:הערה: מח\nסימון בגיליון: משובץ (ערך 
 גולמי: 'ב')\nמקור: שיבוץ אפריל 2026.xls שורה 74
LOCATION:דיזנגוף 1
CATEGORIES:בית ליסין,הקמה
STATUS:CONFIRMED
TRANSP:OPAQUE
END:VEVENT
BEGIN:VEVENT
UID:e0bc3e280bab50a1@gidi-shifts
DTSTAMP:20260421T201835Z
DTSTART;TZID=Asia/Jerusalem:20260416T090000
DTEND;TZID=Asia/Jerusalem:20260416T103000
SUMMARY:עבודות  מחסן · פריקה/העמסה
DESCRIPTION:סימון בגיליון: משובץ (ערך גולמי: 'ב')
 \nשעה גולמית: 0.375\nמקור: שיבוץ אפריל 2026.xls שו
 רה 98
CATEGORIES:בית ליסין,פריקה/העמסה
STATUS:CONFIRMED
TRANSP:OPAQUE
END:VEVENT
BEGIN:VEVENT
UID:11be789d60bffc11@gidi-shifts
DTSTAMP:20260421T201835Z
DTSTART;TZID=Asia/Jerusalem:20260416T200000
DTEND;TZID=Asia/Jerusalem:20260416T230000
SUMMARY:סיפור הפרברים · הצגת ערב
DESCRIPTION:סימון בגיליון: משובץ (ערך גולמי: '^')\
 nשעה גולמית: 0.8333333333333334\nמקור: שיבוץ אפריל 2
 026.xls שורה 91
LOCATION:דיזנגוף 1
CATEGORIES:בית ליסין,הצגת ערב
STATUS:CONFIRMED
TRANSP:OPAQUE
END:VEVENT
BEGIN:VEVENT
UID:e7003aab1fbf2acd@gidi-shifts
DTSTAMP:20260421T201835Z
DTSTART;VALUE=DATE:20260423
DTEND;VALUE=DATE:20260424
SUMMARY:מלכת היופי · הקמה · 🚐 חוץ
DESCRIPTION:הערה: מח מח\nסימון בגיליון: הופעת חו
 ץ (ערך גולמי: 'x')\nשעה גולמית: עד 17:30\nמקור: ש
 יבוץ אפריל 2026.xls שורה 137
LOCATION:ת.חיפה
CATEGORIES:בית ליסין,הקמה,הופעת חוץ
STATUS:CONFIRMED
TRANSP:OPAQUE
END:VEVENT
BEGIN:VEVENT
UID:f4a0618070f236f9@gidi-shifts
DTSTAMP:20260421T201835Z
DTSTART;VALUE=DATE:20260423
DTEND;VALUE=DATE:20260424
SUMMARY:פריקה בחורים טובים · פריקה/העמסה · ⛔ 
 בוטל
DESCRIPTION:הערה: מח מח\nסימון בגיליון: משובץ (ע
 רך גולמי: 'ב')\nמקור: שיבוץ אפריל 2026.xls שורה 1
 38
CATEGORIES:בית ליסין,פריקה/העמסה
STATUS:CANCELLED
TRANSP:OPAQUE
END:VEVENT
BEGIN:VEVENT
UID:b0220b2ebda9da74@gidi-shifts
DTSTAMP:20260421T201835Z
DTSTART;VALUE=DATE:20260425
DTEND;VALUE=DATE:20260426
SUMMARY:פריקת קרנפים · פריקה/העמסה
DESCRIPTION:הערה: מח\nסימון בגיליון: משובץ (ערך 
 גולמי: 'ב')\nמקור: שיבוץ אפריל 2026.xls שורה 151
CATEGORIES:בית ליסין,פריקה/העמסה
STATUS:CONFIRMED
TRANSP:OPAQUE
END:VEVENT
BEGIN:VEVENT
UID:4abcb051254285af@gidi-shifts
DTSTAMP:20260421T201835Z
DTSTART;TZID=Asia/Jerusalem:20260425T160000
DTEND;TZID=Asia/Jerusalem:20260425T190000
SUMMARY:בחורים טובים (שבת) · הקמה · 🚐 חוץ
DESCRIPTION:הערה: מח מח\nסימון בגיליון: הופעת חו
 ץ (ערך גולמי: 'x')\nשעה גולמית: מ 16:00\nמקור: שי
 בוץ אפריל 2026.xls שורה 150
LOCATION:דרום השרון
CATEGORIES:בית ליסין,הקמה,הופעת חוץ
STATUS:CONFIRMED
TRANSP:OPAQUE
END:VEVENT
BEGIN:VEVENT
UID:aca333a2eff6184c@gidi-shifts
DTSTAMP:20260421T201835Z
DTSTART;TZID=Asia/Jerusalem:20260425T213000
DTEND;TZID=Asia/Jerusalem:20260426T003000
SUMMARY:חנאל ומכבית · הצגה
DESCRIPTION:סימון בגיליון: משובץ (ערך גולמי: 'ב')
 \nשעה גולמית: 0.8958333333333334\nמקור: שיבוץ אפריל 
 2026.xls שורה 148
LOCATION:דיזנגוף 2
CATEGORIES:בית ליסין,הצגה
STATUS:CONFIRMED
TRANSP:OPAQUE
END:VEVENT
BEGIN:VEVENT
UID:1d3fdb83b7d07293@gidi-shifts
DTSTAMP:20260421T201835Z
DTSTART;TZID=Asia/Jerusalem:20260426T203000
DTEND;TZID=Asia/Jerusalem:20260426T233000
SUMMARY:אף מילה (+חזרה) · הצגה · 🚐 חוץ
DESCRIPTION:הערה: מח מח\nסימון בגיליון: הופעת חו
 ץ (ערך גולמי: 'x')\nשעה גולמית: 0.8541666666666666\nמק
 ור: שיבוץ אפריל 2026.xls שורה 157
LOCATION:דיזנגוף 2
CATEGORIES:בית ליסין,הצגה,הופעת חוץ
STATUS:CONFIRMED
TRANSP:OPAQUE
END:VEVENT
BEGIN:VEVENT
UID:dcfde28165b47d23@gidi-shifts
DTSTAMP:20260421T201835Z
DTSTART;TZID=Asia/Jerusalem:20260426T220000
DTEND;TZID=Asia/Jerusalem:20260426T233000
SUMMARY:פריקת חנאל ומכבית · פריקה/העמסה
DESCRIPTION:הערה: מח מח\nסימון בגיליון: תחילה ב־
 22:00 (ערך גולמי: '22')\nמקור: שיבוץ אפריל 2026.xls 
 שורה 158
CATEGORIES:בית ליסין,פריקה/העמסה
STATUS:CONFIRMED
TRANSP:OPAQUE
END:VEVENT
BEGIN:VEVENT
UID:0bf9943cca10a5d4@gidi-shifts
DTSTAMP:20260421T201835Z
DTSTART;TZID=Asia/Jerusalem:20260427T203000
DTEND;TZID=Asia/Jerusalem:20260427T233000
SUMMARY:מלכת היופי · הצגה · 🚐 חוץ
DESCRIPTION:הערה: מח מח\nסימון בגיליון: הופעת חו
 ץ (ערך גולמי: 'x')\nשעה גולמית: 0.8541666666666666\nמק
 ור: שיבוץ אפריל 2026.xls שורה 165
LOCATION:דיזנגוף 1
CATEGORIES:בית ליסין,הצגה,הופעת חוץ
STATUS:CONFIRMED
TRANSP:OPAQUE
END:VEVENT
BEGIN:VEVENT
UID:74110ed8cc42ad39@gidi-shifts
DTSTAMP:20260421T201835Z
DTSTART;TZID=Asia/Jerusalem:20260427T210000
DTEND;TZID=Asia/Jerusalem:20260427T223000
SUMMARY:הוצאה סיפור · פריקה/העמסה
DESCRIPTION:הערה: מח\nסימון בגיליון: תחילה ב־21:00
  (ערך גולמי: '21')\nמקור: שיבוץ אפריל 2026.xls שור
 ה 167
CATEGORIES:בית ליסין,פריקה/העמסה
STATUS:CONFIRMED
TRANSP:OPAQUE
END:VEVENT
BEGIN:VEVENT
UID:0dd2622fcdc70189@gidi-shifts
DTSTAMP:20260421T201835Z
DTSTART;TZID=Asia/Jerusalem:20260427T220000
DTEND;TZID=Asia/Jerusalem:20260427T233000
SUMMARY:פריקה סיפור הפרברים · פריקה/העמסה
DESCRIPTION:הערה: מח מח\nסימון בגיליון: תחילה ב־
 22:00 (ערך גולמי: '22')\nמקור: שיבוץ אפריל 2026.xls 
 שורה 166
CATEGORIES:בית ליסין,פריקה/העמסה
STATUS:CONFIRMED
TRANSP:OPAQUE
END:VEVENT
BEGIN:VEVENT
UID:b46650fd842ca83b@gidi-shifts
DTSTAMP:20260421T201835Z
DTSTART;TZID=Asia/Jerusalem:20260427T220000
DTEND;TZID=Asia/Jerusalem:20260427T233000
SUMMARY:פריקה סיפור · פריקה/העמסה
DESCRIPTION:הערה: מח\nסימון בגיליון: תחילה ב־22:00
  (ערך גולמי: '22')\nמקור: שיבוץ אפריל 2026.xls שור
 ה 168
CATEGORIES:בית ליסין,פריקה/העמסה
STATUS:CONFIRMED
TRANSP:OPAQUE
END:VEVENT
BEGIN:VEVENT
UID:8b1e60efb743a317@gidi-shifts
DTSTAMP:20260421T201835Z
DTSTART;TZID=Asia/Jerusalem:20260428T203000
DTEND;TZID=Asia/Jerusalem:20260428T233000
SUMMARY:אור לגויים · הצגה · 🚐 חוץ
DESCRIPTION:הערה: מח מח\nסימון בגיליון: הופעת חו
 ץ (ערך גולמי: 'x')\nשעה גולמית: 0.8541666666666666\nמק
 ור: שיבוץ אפריל 2026.xls שורה 178
LOCATION:רינה חדרה
CATEGORIES:בית ליסין,הצגה,הופעת חוץ
STATUS:CONFIRMED
TRANSP:OPAQUE
END:VEVENT
BEGIN:VEVENT
UID:c029ba814bd4740a@gidi-shifts
DTSTAMP:20260421T201835Z
DTSTART;TZID=Asia/Jerusalem:20260429T203000
DTEND;TZID=Asia/Jerusalem:20260429T233000
SUMMARY:אור לגויים · הצגה · 🚐 חוץ
DESCRIPTION:הערה: מז מז\nסימון בגיליון: הופעת חו
 ץ (ערך גולמי: 'x')\nשעה גולמית: 0.8541666666666666\nמק
 ור: שיבוץ אפריל 2026.xls שורה 193
LOCATION:רינה חדרה
CATEGORIES:בית ליסין,הצגה,הופעת חוץ
STATUS:CONFIRMED
TRANSP:OPAQUE
END:VEVENT
BEGIN:VEVENT
UID:b0756a0ccbfbd6e5@gidi-shifts
DTSTAMP:20260421T201835Z
DTSTART;TZID=Asia/Jerusalem:20260429T220000
DTEND;TZID=Asia/Jerusalem:20260429T233000
SUMMARY:העמסת ציוד לפרוק גויים · פריקה/העמסה
DESCRIPTION:סימון בגיליון: תחילה ב־22:00 (ערך גול
 מי: '22')\nמקור: שיבוץ אפריל 2026.xls שורה 194
CATEGORIES:בית ליסין,פריקה/העמסה
STATUS:CONFIRMED
TRANSP:OPAQUE
END:VEVENT
BEGIN:VEVENT
UID:aa7de597412adc90@gidi-shifts
DTSTAMP:20260421T201835Z
DTSTART;TZID=Asia/Jerusalem:20260430T230000
DTEND;TZID=Asia/Jerusalem:20260501T003000
SUMMARY:פריקת גויים · פריקה/העמסה
DESCRIPTION:סימון בגיליון: תחילה ב־00:00 (ערך גול
 מי: '24')\nשעה גולמית: לילה\nמקור: שיבוץ אפריל
  2026.xls שורה 195
CATEGORIES:בית ליסין,פריקה/העמסה
STATUS:CONFIRMED
TRANSP:OPAQUE
END:VEVENT
BEGIN:VEVENT
UID:339e91d70f678f26@gidi-shifts
DTSTAMP:20260421T201835Z
DTSTART;VALUE=DATE:20260430
DTEND;VALUE=DATE:20260501
SUMMARY:מלכת היופי · הקמה · 🚐 חוץ
DESCRIPTION:הערה: מז מז\nסימון בגיליון: הופעת חו
 ץ (ערך גולמי: 'x')\nמקור: שיבוץ אפריל 2026.xls שו
 רה 207
LOCATION:ראש העין
CATEGORIES:בית ליסין,הקמה,הופעת חוץ
STATUS:CONFIRMED
TRANSP:OPAQUE
END:VEVENT
BEGIN:VEVENT
UID:f6edec92d9b413bc@gidi-shifts
DTSTAMP:20260421T201835Z
DTSTART;TZID=Asia/Jerusalem:20260430T203000
DTEND;TZID=Asia/Jerusalem:20260430T233000
SUMMARY:מלכת היופי · הצגה · 🚐 חוץ
DESCRIPTION:הערה: מח מח\nסימון בגיליון: הופעת חו
 ץ (ערך גולמי: 'x')\nשעה גולמית: 0.8541666666666666\nמק
 ור: שיבוץ אפריל 2026.xls שורה 208
LOCATION:ראש העין
CATEGORIES:בית ליסין,הצגה,הופעת חוץ
STATUS:CONFIRMED
TRANSP:OPAQUE
END:VEVENT
BEGIN:VEVENT
UID:e01999d86c9cb05a@gidi-shifts
DTSTAMP:20260421T201835Z
DTSTART;TZID=Asia/Jerusalem:20260502T210000
DTEND;TZID=Asia/Jerusalem:20260503T000000
SUMMARY:אף מילה · הצגה
DESCRIPTION:הערה: מח מח\nסימון בגיליון: משובץ (ע
 רך גולמי: '1')\nשעה גולמית: 0.875\nמקור: שיבוץ מ
 אי 2026.xls שורה 18
LOCATION:קרית מוצקין
CATEGORIES:בית ליסין,הצגה
STATUS:CONFIRMED
TRANSP:OPAQUE
END:VEVENT
BEGIN:VEVENT
UID:f4d265f68dd677e9@gidi-shifts
DTSTAMP:20260421T201835Z
DTSTART;TZID=Asia/Jerusalem:20260505T200000
DTEND;TZID=Asia/Jerusalem:20260505T230000
SUMMARY:אמדאוס · הצגת ערב
DESCRIPTION:סימון בגיליון: משובץ (ערך גולמי: '1')\
 nשעה גולמית: 0.8333333333333334\nמקור: שיבוץ מאי 2026.
 xls שורה 37
LOCATION:דיזנגוף 1
CATEGORIES:בית ליסין,הצגת ערב
STATUS:CONFIRMED
TRANSP:OPAQUE
END:VEVENT
BEGIN:VEVENT
UID:e933f77de6cad7b1@gidi-shifts
DTSTAMP:20260421T201835Z
DTSTART;TZID=Asia/Jerusalem:20260507T200000
DTEND;TZID=Asia/Jerusalem:20260507T230000
SUMMARY:אמדאוס · הצגה · 🚐 חוץ
DESCRIPTION:סימון בגיליון: הופעת חוץ (ערך גולמי
 : 'x')\nשעה גולמית: 0.8333333333333334\nמקור: שיבוץ מא
 י 2026.xls שורה 55
LOCATION:דיזנגוף 1
CATEGORIES:בית ליסין,הצגה,הופעת חוץ
STATUS:CONFIRMED
TRANSP:OPAQUE
END:VEVENT
BEGIN:VEVENT
UID:0652cca2ef6d8ad0@gidi-shifts
DTSTAMP:20260421T201835Z
DTSTART;TZID=Asia/Jerusalem:20260509T230000
DTEND;TZID=Asia/Jerusalem:20260510T020000
SUMMARY:משחקים · הקמה
DESCRIPTION:סימון בגיליון: תחילה ב־11:00 (ערך גול
 מי: '11')\nשעה גולמית: לילה\nמקור: שיבוץ מאי 202
 6.xls שורה 75
LOCATION:דיזנגוף 2
CATEGORIES:בית ליסין,הקמה
STATUS:CONFIRMED
TRANSP:OPAQUE
END:VEVENT
BEGIN:VEVENT
UID:1657057d6fcee7f1@gidi-shifts
DTSTAMP:20260421T201835Z
DTSTART;TZID=Asia/Jerusalem:20260510T200000
DTEND;TZID=Asia/Jerusalem:20260510T230000
SUMMARY:משחקים · הצגה · 🚐 חוץ
DESCRIPTION:סימון בגיליון: הופעת חוץ (ערך גולמי
 : 'x')\nשעה גולמית: 0.8333333333333334\nמקור: שיבוץ מא
 י 2026.xls שורה 90
LOCATION:דיזנגוף 2
CATEGORIES:בית ליסין,הצגה,הופעת חוץ
STATUS:CONFIRMED
TRANSP:OPAQUE
END:VEVENT
BEGIN:VEVENT
UID:a486c62c53e974b6@gidi-shifts
DTSTAMP:20260421T201835Z
DTSTART;TZID=Asia/Jerusalem:20260510T203000
DTEND;TZID=Asia/Jerusalem:20260510T233000
SUMMARY:אור לגויים · הצגה · 🚐 חוץ
DESCRIPTION:הערה: מח מח\nסימון בגיליון: הופעת חו
 ץ (ערך גולמי: 'x')\nשעה גולמית: 0.8541666666666666\nמק
 ור: שיבוץ מאי 2026.xls שורה 92
LOCATION:אשקלון
CATEGORIES:בית ליסין,הצגה,הופעת חוץ
STATUS:CONFIRMED
TRANSP:OPAQUE
END:VEVENT
BEGIN:VEVENT
UID:427d52e58013cce0@gidi-shifts
DTSTAMP:20260421T201835Z
DTSTART;TZID=Asia/Jerusalem:20260510T220000
DTEND;TZID=Asia/Jerusalem:20260510T233000
SUMMARY:פריקה לילה ברומא · פריקה/העמסה
DESCRIPTION:הערה: מח מח\nסימון בגיליון: תחילה ב־
 22:00 (ערך גולמי: '22')\nמקור: שיבוץ מאי 2026.xls שו
 רה 93
CATEGORIES:בית ליסין,פריקה/העמסה
STATUS:CONFIRMED
TRANSP:OPAQUE
END:VEVENT
BEGIN:VEVENT
UID:ef5c11739d191a4a@gidi-shifts
DTSTAMP:20260421T201835Z
DTSTART;TZID=Asia/Jerusalem:20260511T110000
DTEND;TZID=Asia/Jerusalem:20260511T150000
SUMMARY:שונאים סיפור אהבה · מונטז'
DESCRIPTION:הערה: מח\nסימון בגיליון: תחילה ב־11:00
  (ערך גולמי: '11')\nמקור: שיבוץ מאי 2026.xls שורה 9
 6
LOCATION:דיזנגוף 2
CATEGORIES:בית ליסין,מונטז'
STATUS:CONFIRMED
TRANSP:OPAQUE
END:VEVENT
BEGIN:VEVENT
UID:d54bec0bb0296da3@gidi-shifts
DTSTAMP:20260421T201835Z
DTSTART;VALUE=DATE:20260512
DTEND;VALUE=DATE:20260513
SUMMARY:שונאים סיפור אהבה · חזרה
DESCRIPTION:סימון בגיליון: משובץ (ערך גולמי: '1')\
 nמקור: שיבוץ מאי 2026.xls שורה 105
LOCATION:דיזנגוף 2
CATEGORIES:בית ליסין,חזרה
STATUS:CONFIRMED
TRANSP:OPAQUE
END:VEVENT
BEGIN:VEVENT
UID:4fc6ec49c1ceb860@gidi-shifts
DTSTAMP:20260421T201835Z
DTSTART;VALUE=DATE:20260513
DTEND;VALUE=DATE:20260514
SUMMARY:שונאים סיפור אהבה · חזרה
DESCRIPTION:סימון בגיליון: משובץ (ערך גולמי: '1')\
 nמקור: שיבוץ מאי 2026.xls שורה 113
LOCATION:דיזנגוף 2
CATEGORIES:בית ליסין,חזרה
STATUS:CONFIRMED
TRANSP:OPAQUE
END:VEVENT
BEGIN:VEVENT
UID:6445363775e84972@gidi-shifts
DTSTAMP:20260421T201835Z
DTSTART;TZID=Asia/Jerusalem:20260513T203000
DTEND;TZID=Asia/Jerusalem:20260513T233000
SUMMARY:בחורים טובים · הצגה · 🚐 חוץ
DESCRIPTION:הערה: מח מח\nסימון בגיליון: הופעת חו
 ץ (ערך גולמי: 'x')\nשעה גולמית: 0.8541666666666666\nמק
 ור: שיבוץ מאי 2026.xls שורה 118
LOCATION:קרית מלאכי
CATEGORIES:בית ליסין,הצגה,הופעת חוץ
STATUS:CONFIRMED
TRANSP:OPAQUE
END:VEVENT
BEGIN:VEVENT
UID:1857f7472d8d0e88@gidi-shifts
DTSTAMP:20260421T201835Z
DTSTART;VALUE=DATE:20260514
DTEND;VALUE=DATE:20260515
SUMMARY:שונאים סיפור אהבה · חזרה
DESCRIPTION:סימון בגיליון: משובץ (ערך גולמי: '1')\
 nמקור: שיבוץ מאי 2026.xls שורה 121
LOCATION:דיזנגוף 2
CATEGORIES:בית ליסין,חזרה
STATUS:CONFIRMED
TRANSP:OPAQUE
END:VEVENT
BEGIN:VEVENT
UID:da31139c92ac8226@gidi-shifts
DTSTAMP:20260421T201835Z
DTSTART;VALUE=DATE:20260515
DTEND;VALUE=DATE:20260516
SUMMARY:שונאים סיפור אהבה · חזרה
DESCRIPTION:סימון בגיליון: משובץ (ערך גולמי: '1')\
 nמקור: שיבוץ מאי 2026.xls שורה 129
LOCATION:דיזנגוף 2
CATEGORIES:בית ליסין,חזרה
STATUS:CONFIRMED
TRANSP:OPAQUE
END:VEVENT
BEGIN:VEVENT
UID:0cd68611cf0d573b@gidi-shifts
DTSTAMP:20260421T201835Z
DTSTART;VALUE=DATE:20260516
DTEND;VALUE=DATE:20260517
SUMMARY:שונאים סיפור אהבה · חזרה
DESCRIPTION:סימון בגיליון: משובץ (ערך גולמי: '1')\
 nמקור: שיבוץ מאי 2026.xls שורה 133
LOCATION:דיזנגוף 2
CATEGORIES:בית ליסין,חזרה
STATUS:CONFIRMED
TRANSP:OPAQUE
END:VEVENT
BEGIN:VEVENT
UID:0623bab02ca2ae20@gidi-shifts
DTSTAMP:20260421T201835Z
DTSTART;TZID=Asia/Jerusalem:20260517T203000
DTEND;TZID=Asia/Jerusalem:20260517T233000
SUMMARY:שונאים סיפור אהבה · הצגת ערב
DESCRIPTION:הערה: חזרות?  +\nסימון בגיליון: משובץ
  (ערך גולמי: '1')\nשעה גולמית: 0.8541666666666666\nמקו
 ר: שיבוץ מאי 2026.xls שורה 139
LOCATION:דיזנגוף 2
CATEGORIES:בית ליסין,הצגת ערב
STATUS:CONFIRMED
TRANSP:OPAQUE
END:VEVENT
BEGIN:VEVENT
UID:a668a79d2250b608@gidi-shifts
DTSTAMP:20260421T201835Z
DTSTART;TZID=Asia/Jerusalem:20260518T170000
DTEND;TZID=Asia/Jerusalem:20260518T200000
SUMMARY:שונאים סיפור אהבה · הצגת ערב
DESCRIPTION:הערה: הקדמה?\nסימון בגיליון: משובץ (
 ערך גולמי: '1')\nשעה גולמית: 0.7083333333333334\nמקור:
  שיבוץ מאי 2026.xls שורה 145
LOCATION:דיזנגוף 2
CATEGORIES:בית ליסין,הצגת ערב
STATUS:CONFIRMED
TRANSP:OPAQUE
END:VEVENT
BEGIN:VEVENT
UID:d3d1065239c2709a@gidi-shifts
DTSTAMP:20260421T201835Z
DTSTART;TZID=Asia/Jerusalem:20260520T203000
DTEND;TZID=Asia/Jerusalem:20260520T233000
SUMMARY:שונאים סיפור אהבה · הצגה · 🚐 חוץ
DESCRIPTION:סימון בגיליון: הופעת חוץ (ערך גולמי
 : 'x')\nשעה גולמית: 0.8541666666666666\nמקור: שיבוץ מא
 י 2026.xls שורה 162
LOCATION:דיזנגוף 2
CATEGORIES:בית ליסין,הצגה,הופעת חוץ
STATUS:CONFIRMED
TRANSP:OPAQUE
END:VEVENT
BEGIN:VEVENT
UID:dcc1519b5b9444c7@gidi-shifts
DTSTAMP:20260421T201835Z
DTSTART;TZID=Asia/Jerusalem:20260526T203000
DTEND;TZID=Asia/Jerusalem:20260526T233000
SUMMARY:אפס · הצגה · 🚐 חוץ
DESCRIPTION:סימון בגיליון: הופעת חוץ (ערך גולמי
 : 'x')\nשעה גולמית: 0.8541666666666666\nמקור: שיבוץ מא
 י 2026.xls שורה 191
LOCATION:דיזנגוף 1
CATEGORIES:בית ליסין,הצגה,הופעת חוץ
STATUS:CONFIRMED
TRANSP:OPAQUE
END:VEVENT
BEGIN:VEVENT
UID:4eac1827abf06110@gidi-shifts
DTSTAMP:20260421T201835Z
DTSTART;TZID=Asia/Jerusalem:20260528T203000
DTEND;TZID=Asia/Jerusalem:20260528T233000
SUMMARY:אף מילה · הצגה · 🚐 חוץ
DESCRIPTION:הערה: מח מח\nסימון בגיליון: הופעת חו
 ץ (ערך גולמי: 'x')\nשעה גולמית: 0.8541666666666666\nמק
 ור: שיבוץ מאי 2026.xls שורה 213
LOCATION:דיזנגוף 2
CATEGORIES:בית ליסין,הצגה,הופעת חוץ
STATUS:CONFIRMED
TRANSP:OPAQUE
END:VEVENT
BEGIN:VEVENT
UID:f083ae5510393f24@gidi-shifts
DTSTAMP:20260421T201835Z
DTSTART;TZID=Asia/Jerusalem:20260528T210000
DTEND;TZID=Asia/Jerusalem:20260528T223000
SUMMARY:פריקה קרנפים · פריקה/העמסה
DESCRIPTION:הערה: מח\nסימון בגיליון: תחילה ב־21:00
  (ערך גולמי: '21')\nמקור: שיבוץ מאי 2026.xls שורה 2
 14
CATEGORIES:בית ליסין,פריקה/העמסה
STATUS:CONFIRMED
TRANSP:OPAQUE
END:VEVENT
BEGIN:VEVENT
UID:82e49ab49e729d45@gidi-shifts
DTSTAMP:20260421T201835Z
DTSTART;TZID=Asia/Jerusalem:20260528T210000
DTEND;TZID=Asia/Jerusalem:20260528T223000
SUMMARY:פריקת שונאים (עודפים) · פריקה/העמסה
DESCRIPTION:הערה: מח\nסימון בגיליון: תחילה ב־21:00
  (ערך גולמי: '21')\nמקור: שיבוץ מאי 2026.xls שורה 2
 15
CATEGORIES:בית ליסין,פריקה/העמסה
STATUS:CONFIRMED
TRANSP:OPAQUE
END:VEVENT
BEGIN:VEVENT
UID:dfa388f50931d32f@gidi-shifts
DTSTAMP:20260421T201835Z
DTSTART;TZID=Asia/Jerusalem:20260531T203000
DTEND;TZID=Asia/Jerusalem:20260531T233000
SUMMARY:אף מילה · הצגה
DESCRIPTION:סימון בגיליון: משובץ (ערך גולמי: '1')\
 nשעה גולמית: 0.8541666666666666\nמקור: שיבוץ מאי 2026.
 xls שורה 234
LOCATION:דיזנגוף 2
CATEGORIES:בית ליסין,הצגה
STATUS:CONFIRMED
TRANSP:OPAQUE
END:VEVENT
END:VCALENDAR
